BEGIN:VCALENDAR
VERSION:2.0
PRODID:icalendar-ruby
CALSCALE:GREGORIAN
BEGIN:VEVENT
DTSTAMP:20210121T192850Z
UID:ef1ca990-3b1b-4847-9ab5-8409cc61966a
DTSTART;VALUE=DATE:20210207
DESCRIPTION:Property ID# 499644\, Time: 2:30PM
SUMMARY:Auction for 21 Bledisloe Street
END:VEVENT
END:VCALENDAR
