BEGIN:VCALENDAR
VERSION:2.0
PRODID:icalendar-ruby
CALSCALE:GREGORIAN
BEGIN:VEVENT
DTSTAMP:20210121T192852Z
UID:1b8d5ead-b9c4-449e-8e64-3e809bdf39c7
DTSTART;VALUE=DATE:20210207
DESCRIPTION:Property ID# 499645\, Locatoin: On Site\, Time: 2:30PM
SUMMARY:Auction for 21a Bledisloe Street
END:VEVENT
END:VCALENDAR
