BEGIN:VCALENDAR
VERSION:2.0
PRODID:icalendar-ruby
CALSCALE:GREGORIAN
BEGIN:VEVENT
DTSTAMP:20210120T022111Z
UID:4ae87b41-d443-41fc-bbe9-306e10f79f30
DTSTART;VALUE=DATE:20210120
DESCRIPTION:Property ID# 499652\, Locatoin: On site\, Time: 1:00PM
SUMMARY:Auction for 
END:VEVENT
END:VCALENDAR
