BEGIN:VCALENDAR
VERSION:2.0
PRODID:icalendar-ruby
CALSCALE:GREGORIAN
BEGIN:VEVENT
DTSTAMP:20210121T192836Z
UID:c99530b2-9984-4649-9314-058efb59641c
DTSTART;VALUE=DATE:20210213
DESCRIPTION:Property ID# 499726\, Locatoin: On Site (Unless Sold Prior)\, T
 ime: 1:30PM
SUMMARY:Auction for 157 Metcalfe Road
END:VEVENT
END:VCALENDAR
