BEGIN:VCALENDAR
VERSION:2.0
PRODID:icalendar-ruby
CALSCALE:GREGORIAN
BEGIN:VEVENT
DTSTAMP:20210121T191950Z
UID:4847e62d-b40f-4d3d-9846-010cb9f87247
DTSTART;VALUE=DATE:20210213
DESCRIPTION:Property ID# 499727\, Locatoin: On Site (Unless Sold Prior)\, T
 ime: 3:00PM
SUMMARY:Auction for 50 Savoy Road
END:VEVENT
END:VCALENDAR
