BEGIN:VCALENDAR
VERSION:2.0
PRODID:icalendar-ruby
CALSCALE:GREGORIAN
BEGIN:VEVENT
DTSTAMP:20210120T022034Z
UID:fc1b00f2-ffc3-4256-8a5c-f5fa25a4dee6
DTSTART;VALUE=DATE:20210203
DESCRIPTION:Property ID# 499740\, Locatoin: On Site at 5.30pm.\, Time: 5:30
 PM
SUMMARY:Auction for 
END:VEVENT
END:VCALENDAR
