BEGIN:VCALENDAR
VERSION:2.0
PRODID:icalendar-ruby
CALSCALE:GREGORIAN
BEGIN:VEVENT
DTSTAMP:20210121T192927Z
UID:0663d02c-32e1-4e16-a176-b4c36e226840
DTSTART;VALUE=DATE:20210411
DESCRIPTION:Property ID# 499821\, Locatoin: In rooms Harcourts\, 128 Hurstm
 ere Road Takapuna\, Time: 6:30AM
SUMMARY:Auction for 
END:VEVENT
END:VCALENDAR
