BEGIN:VCALENDAR
VERSION:2.0
PRODID:icalendar-ruby
CALSCALE:GREGORIAN
BEGIN:VEVENT
DTSTAMP:20210121T192030Z
UID:f3b87a39-fb8a-4b7c-a350-67aaca5ecfa7
DTSTART;VALUE=DATE:20210210
DESCRIPTION:Property ID# 500207\, Locatoin: On Site\, Time: 5:30AM
SUMMARY:Auction for 3 Intrepid Place 
END:VEVENT
END:VCALENDAR
