BEGIN:VCALENDAR
VERSION:2.0
PRODID:icalendar-ruby
CALSCALE:GREGORIAN
BEGIN:VEVENT
DTSTAMP:20210120T022059Z
UID:ce9a5e52-999b-4412-b37e-3008e41b5a32
DTSTART;TZID=Pacific/Auckland:20210124T130000
DTEND;TZID=Pacific/Auckland:20210124T134500
DESCRIPTION:Property ID# 497731
SUMMARY:Openhome for 279 Mangatawhiri Road
END:VEVENT
END:VCALENDAR
