BEGIN:VCALENDAR
VERSION:2.0
PRODID:icalendar-ruby
CALSCALE:GREGORIAN
BEGIN:VEVENT
DTSTAMP:20210120T022109Z
UID:29e2ca72-ef94-4c08-a0a3-c8e4bcc8f094
DTSTART;TZID=Pacific/Auckland:20210120T123000
DTEND;TZID=Pacific/Auckland:20210120T130000
DESCRIPTION:Property ID# 499652
SUMMARY:Openhome for 
END:VEVENT
END:VCALENDAR
