BEGIN:VCALENDAR
VERSION:2.0
PRODID:icalendar-ruby
CALSCALE:GREGORIAN
BEGIN:VEVENT
DTSTAMP:20210121T192924Z
UID:4d287597-482a-4b2c-bc45-748a295730d1
DTSTART;TZID=Pacific/Auckland:20210123T113000
DTEND;TZID=Pacific/Auckland:20210123T120000
DESCRIPTION:Property ID# 499821
SUMMARY:Openhome for 
END:VEVENT
END:VCALENDAR
