BEGIN:VCALENDAR
VERSION:2.0
PRODID:icalendar-ruby
CALSCALE:GREGORIAN
BEGIN:VEVENT
DTSTAMP:20210121T192928Z
UID:a8e2527e-20d8-492b-ac0d-e1fbe717c07c
DTSTART;TZID=Pacific/Auckland:20210123T123000
DTEND;TZID=Pacific/Auckland:20210123T130000
DESCRIPTION:Property ID# 499740
SUMMARY:Openhome for 
END:VEVENT
END:VCALENDAR
