BEGIN:VCALENDAR
VERSION:2.0
PRODID:icalendar-ruby
CALSCALE:GREGORIAN
BEGIN:VEVENT
DTSTAMP:20210121T192029Z
UID:556503a9-003e-4eeb-8361-5282c45008f7
DTSTART;TZID=Pacific/Auckland:20210123T140000
DTEND;TZID=Pacific/Auckland:20210123T143000
DESCRIPTION:Property ID# 500207
SUMMARY:Openhome for 3 Intrepid Place 
END:VEVENT
END:VCALENDAR
