BEGIN:VCALENDAR
VERSION:2.0
PRODID:icalendar-ruby
CALSCALE:GREGORIAN
BEGIN:VEVENT
DTSTAMP:20210121T192007Z
UID:fe24a91e-7548-4d16-9b96-d5cc885554f6
DTSTART;TZID=Pacific/Auckland:20210123T140000
DTEND;TZID=Pacific/Auckland:20210123T143000
DESCRIPTION:Property ID# 499781
SUMMARY:Openhome for 13 Grangewood Close
END:VEVENT
END:VCALENDAR
