BEGIN:VCALENDAR
VERSION:2.0
PRODID:icalendar-ruby
CALSCALE:GREGORIAN
BEGIN:VEVENT
DTSTAMP:20260424T082201Z
UID:4d2f215a-c68f-4318-b804-bf9ae7876941
DTSTART;VALUE=DATE:20200908
DESCRIPTION:Property ID# 488360\, Locatoin: Inrooms\, 13/77 St. George Stre
 et\, Papatoetoe\, Time: 6:00AM
SUMMARY:Auction for 
END:VEVENT
END:VCALENDAR
