BEGIN:VCALENDAR
VERSION:2.0
PRODID:icalendar-ruby
CALSCALE:GREGORIAN
BEGIN:VEVENT
DTSTAMP:20260420T120058Z
UID:7da477dc-4190-4610-b221-100a411a4c09
DTSTART;VALUE=DATE:20201030
DESCRIPTION:Property ID# 492519\, Locatoin: 50 Remuera Road\, Time: 2:00PM
SUMMARY:Auction for 
END:VEVENT
END:VCALENDAR
