BEGIN:VCALENDAR
VERSION:2.0
PRODID:icalendar-ruby
CALSCALE:GREGORIAN
BEGIN:VEVENT
DTSTAMP:20260420T092004Z
UID:466f8e28-d350-4b65-b934-33b65965e094
DTSTART;VALUE=DATE:20210309
DESCRIPTION:Property ID# 502833\, Locatoin: Inrooms\, 13/77 St. George Stre
 et\, Papatoetoe\, Time: 6:00PM
SUMMARY:Auction for 
END:VEVENT
END:VCALENDAR
