BEGIN:VCALENDAR
VERSION:2.0
PRODID:icalendar-ruby
CALSCALE:GREGORIAN
BEGIN:VEVENT
DTSTAMP:20260422T082604Z
UID:d23d9763-a717-4a39-af22-53ecebe8a9bd
DTSTART;VALUE=DATE:20210613
DESCRIPTION:Property ID# 509660\, Locatoin: On Site\, Time: 1:00PM
SUMMARY:Auction for 
END:VEVENT
END:VCALENDAR
