BEGIN:VCALENDAR
VERSION:2.0
PRODID:icalendar-ruby
CALSCALE:GREGORIAN
BEGIN:VEVENT
DTSTAMP:20260420T115800Z
UID:7b8816f8-cdf7-42e5-92f4-8f02cdeed1f6
DTSTART;VALUE=DATE:20210704
DESCRIPTION:Property ID# 511865\, Locatoin: On Site\, Time: 11:00AM
SUMMARY:Auction for 
END:VEVENT
END:VCALENDAR
