BEGIN:VCALENDAR
VERSION:2.0
PRODID:icalendar-ruby
CALSCALE:GREGORIAN
BEGIN:VEVENT
DTSTAMP:20260422T095106Z
UID:6916f97e-e8d8-45bc-be40-039f71ccec38
DTSTART;VALUE=DATE:20211021
DESCRIPTION:Property ID# 519762\, Locatoin: Live Streaming\, Time: 1:00PM
SUMMARY:Auction for 
END:VEVENT
END:VCALENDAR
