BEGIN:VCALENDAR
VERSION:2.0
PRODID:icalendar-ruby
CALSCALE:GREGORIAN
BEGIN:VEVENT
DTSTAMP:20260422T105815Z
UID:ac5a73f6-f2b5-4179-8a42-0dd067cc95d2
DTSTART;VALUE=DATE:20220313
DESCRIPTION:Property ID# 526673\, Locatoin: Live Stream\, Time: 1:00PM
SUMMARY:Auction for 
END:VEVENT
END:VCALENDAR
