BEGIN:VCALENDAR
VERSION:2.0
PRODID:icalendar-ruby
CALSCALE:GREGORIAN
BEGIN:VEVENT
DTSTAMP:20260423T082203Z
UID:00075713-615e-44d5-a87b-457209ea0cdc
DTSTART;VALUE=DATE:20220529
DESCRIPTION:Property ID# 533917\, Locatoin: On site\, Time: 1:00PM
SUMMARY:Auction for 
END:VEVENT
END:VCALENDAR
