BEGIN:VCALENDAR
VERSION:2.0
PRODID:icalendar-ruby
CALSCALE:GREGORIAN
BEGIN:VEVENT
DTSTAMP:20260420T104219Z
UID:c8994c7f-6ac6-4301-93ae-4767e790f7e8
DTSTART;VALUE=DATE:20250925
DESCRIPTION:Property ID# 596626\, Locatoin: In Rooms - 66 Great South Road\
 , Papatoetoe\, Time: 11:00AM
SUMMARY:Auction for 
END:VEVENT
END:VCALENDAR
