BEGIN:VCALENDAR
VERSION:2.0
PRODID:icalendar-ruby
CALSCALE:GREGORIAN
BEGIN:VEVENT
DTSTAMP:20260422T111509Z
UID:ab02f388-62bd-4ca4-8680-9db21dd17131
DTSTART;TZID=Pacific/Auckland:20260425T110000
DTEND;TZID=Pacific/Auckland:20260425T113000
DESCRIPTION:Property ID# 601771
SUMMARY:Openhome for 39 Success Court
END:VEVENT
END:VCALENDAR
